BEGIN:VCALENDAR
VERSION:2.0
PRODID:-//Your Benefits Card - ECPv5.14.0.4//NONSGML v1.0//EN
CALSCALE:GREGORIAN
METHOD:PUBLISH
X-WR-CALNAME:Your Benefits Card
X-ORIGINAL-URL:https://yourbenefitscard.com
X-WR-CALDESC:Events for Your Benefits Card
BEGIN:VTIMEZONE
TZID:UTC
BEGIN:STANDARD
TZOFFSETFROM:+0000
TZOFFSETTO:+0000
TZNAME:UTC
DTSTART:20170101T000000
END:STANDARD
END:VTIMEZONE
BEGIN:VEVENT
DTSTART;TZID=UTC:20171129T100000
DTEND;TZID=UTC:20171129T110000
DTSTAMP:20260422T185020
CREATED:20171101T173746Z
LAST-MODIFIED:20171101T173746Z
UID:27623-1511949600-1511953200@yourbenefitscard.com
SUMMARY:AIG: Generation Matters 2.0 - Baby Boomers
DESCRIPTION:Tailor your pitch to each client in any generation… in the right way and with the right product. Please join us as we walk through a live demonstration on the new site and how to use the tools provided in a sale to a Baby Boomer. Each client’s journey through the different stages of life is unique – they can enter those stages at different ages\, based on their individual circumstances. Their generation\, however\, doesn’t change. And generation matters when you’re preparing a sales strategy. \nWhen: Wednesday\, November 29\, 2017 \nTime: 10:00 AM CST and 1:00 PM CST \nRegister Here
URL:https://yourbenefitscard.com/event/aig-generation-matters-2-0-baby-boomers/
CATEGORIES:Sales Training
ATTACH;FMTTYPE=image/jpeg:https://yourbenefitscard.com/wp-content/uploads/2017/07/AIG-Logo.jpg
END:VEVENT
END:VCALENDAR