BEGIN:VCALENDAR
VERSION:2.0
PRODID:-//Your Benefits Card - ECPv5.14.0.4//NONSGML v1.0//EN
CALSCALE:GREGORIAN
METHOD:PUBLISH
X-WR-CALNAME:Your Benefits Card
X-ORIGINAL-URL:https://yourbenefitscard.com
X-WR-CALDESC:Events for Your Benefits Card
BEGIN:VTIMEZONE
TZID:UTC
BEGIN:STANDARD
TZOFFSETFROM:+0000
TZOFFSETTO:+0000
TZNAME:UTC
DTSTART:20170101T000000
END:STANDARD
END:VTIMEZONE
BEGIN:VEVENT
DTSTART;TZID=UTC:20171116T130000
DTEND;TZID=UTC:20171116T140000
DTSTAMP:20260423T074919
CREATED:20171107T201827Z
LAST-MODIFIED:20171107T201827Z
UID:27654-1510837200-1510840800@yourbenefitscard.com
SUMMARY:AIG: Maximizing Referral Potential
DESCRIPTION:Join AIG as they discusses ways to Maximize Your Referral Potential. They will be going over tips to grow your business with IncomeGeneration.com\, Retirement Income Gap Calculator\, & Power Protector Income Estimator. \nDate: Thursday\, November 16\, 2017 \nTime: 1:00 PM CST \nRegister Here
URL:https://yourbenefitscard.com/event/aig-maximizing-referral-potential/
CATEGORIES:Sales Training
ATTACH;FMTTYPE=image/jpeg:https://yourbenefitscard.com/wp-content/uploads/2017/07/AIG-Logo.jpg
END:VEVENT
END:VCALENDAR