BEGIN:VCALENDAR
VERSION:2.0
PRODID:-//Your Benefits Card - ECPv5.14.0.4//NONSGML v1.0//EN
CALSCALE:GREGORIAN
METHOD:PUBLISH
X-WR-CALNAME:Your Benefits Card
X-ORIGINAL-URL:https://yourbenefitscard.com
X-WR-CALDESC:Events for Your Benefits Card
BEGIN:VTIMEZONE
TZID:UTC
BEGIN:STANDARD
TZOFFSETFROM:+0000
TZOFFSETTO:+0000
TZNAME:UTC
DTSTART:20180101T000000
END:STANDARD
END:VTIMEZONE
BEGIN:VEVENT
DTSTART;TZID=UTC:20180330T100000
DTEND;TZID=UTC:20180330T110000
DTSTAMP:20260422T075925
CREATED:20180326T180738Z
LAST-MODIFIED:20180326T180738Z
UID:27765-1522404000-1522407600@yourbenefitscard.com
SUMMARY:F&G Company Enhancements Webinar
DESCRIPTION:Fidelity & Guaranty Life is pleased to have had some very positive changes tho their annuity product portfolio over the past few months. In order to catch everyone up on these changes\, their annuity sales team is holding a webinar to discuss the following: \n\nCaps\, bonuses\, participation rates and commission increases on key FIAs\nThe fee/ no fee option on Barclays Trailblazer Sectors 5 Index and the S&P 500 index crediting options for the Accelerator Plus series\nSafe Income Plus payout factors updates\n\nDate: Friday\, March 30 \nTimes: 10 AM and 11:30 AM CST
URL:https://yourbenefitscard.com/event/fg-company-enhancements-webinar/
CATEGORIES:General Information,Product Training,Sales Training
ATTACH;FMTTYPE=image/png:https://yourbenefitscard.com/wp-content/uploads/2017/11/Fidelity-Guaranty-Logo.png
END:VEVENT
END:VCALENDAR