BEGIN:VCALENDAR
VERSION:2.0
PRODID:-//Your Benefits Card - ECPv5.14.0.4//NONSGML v1.0//EN
CALSCALE:GREGORIAN
METHOD:PUBLISH
X-WR-CALNAME:Your Benefits Card
X-ORIGINAL-URL:https://yourbenefitscard.com
X-WR-CALDESC:Events for Your Benefits Card
BEGIN:VTIMEZONE
TZID:UTC
BEGIN:STANDARD
TZOFFSETFROM:+0000
TZOFFSETTO:+0000
TZNAME:UTC
DTSTART:20180101T000000
END:STANDARD
END:VTIMEZONE
BEGIN:VEVENT
DTSTART;TZID=UTC:20180109T133000
DTEND;TZID=UTC:20180109T143000
DTSTAMP:20260421T134819
CREATED:20180103T171400Z
LAST-MODIFIED:20180103T171400Z
UID:27713-1515504600-1515508200@yourbenefitscard.com
SUMMARY:National Life: Accelerated Benefits Riders
DESCRIPTION:National Life Group has a long history of offering life insurance products that provide living benefits. This WebEx presentation will review their current Accelerated Benefits Riders (Terminal Illness\, Chronic Illness\, Critical Illness\, and Critical Injury)\, discuss how they work\, state specific rules\, and provide you with ideas on how to properly position these benefits to your clients. This presentation is for all Agents. \nDate: Tuesday\, January 9th\, 2018 \nTime: 1:30 PM – 2:30 PM CST \nRegister Here
URL:https://yourbenefitscard.com/event/national-life-accelerated-benefits-riders/
CATEGORIES:Product Training,Sales Training
ATTACH;FMTTYPE=image/jpeg:https://yourbenefitscard.com/wp-content/uploads/2017/11/NatLife-logo-e1509659776403.jpg
END:VEVENT
END:VCALENDAR