BEGIN:VCALENDAR
VERSION:2.0
PRODID:-//Your Benefits Card - ECPv5.14.0.4//NONSGML v1.0//EN
CALSCALE:GREGORIAN
METHOD:PUBLISH
X-WR-CALNAME:Your Benefits Card
X-ORIGINAL-URL:https://yourbenefitscard.com
X-WR-CALDESC:Events for Your Benefits Card
BEGIN:VTIMEZONE
TZID:UTC
BEGIN:STANDARD
TZOFFSETFROM:+0000
TZOFFSETTO:+0000
TZNAME:UTC
DTSTART:20180101T000000
END:STANDARD
END:VTIMEZONE
BEGIN:VEVENT
DTSTART;TZID=UTC:20180227T100000
DTEND;TZID=UTC:20180227T110000
DTSTAMP:20260421T184712
CREATED:20180209T201054Z
LAST-MODIFIED:20180209T201054Z
UID:27748-1519725600-1519729200@yourbenefitscard.com
SUMMARY:North American: Demystifying IUL Series - Compelling Features
DESCRIPTION:Learn about the most competitive features of our products\, and how they can apply to your customer’s needs. \nDate: Tuesday\, February 27\, 2018 \nTime: 10:00 AM CST \nRegister Here
URL:https://yourbenefitscard.com/event/north-american-demystifying-iul-series-compelling-features/
CATEGORIES:Product Training,Sales Training
ATTACH;FMTTYPE=image/jpeg:https://yourbenefitscard.com/wp-content/uploads/2017/11/NA-Logo.jpg
END:VEVENT
END:VCALENDAR