BEGIN:VCALENDAR
VERSION:2.0
PRODID:-//Your Benefits Card - ECPv5.14.0.4//NONSGML v1.0//EN
CALSCALE:GREGORIAN
METHOD:PUBLISH
X-WR-CALNAME:Your Benefits Card
X-ORIGINAL-URL:https://yourbenefitscard.com
X-WR-CALDESC:Events for Your Benefits Card
BEGIN:VTIMEZONE
TZID:UTC
BEGIN:STANDARD
TZOFFSETFROM:+0000
TZOFFSETTO:+0000
TZNAME:UTC
DTSTART:20180101T000000
END:STANDARD
END:VTIMEZONE
BEGIN:VEVENT
DTSTART;TZID=UTC:20180306T100000
DTEND;TZID=UTC:20180306T110000
DTSTAMP:20260422T003635
CREATED:20180209T202307Z
LAST-MODIFIED:20180209T202307Z
UID:27753-1520330400-1520334000@yourbenefitscard.com
SUMMARY:North American: Demystifying IUL Series - Effective Illustration Tips
DESCRIPTION:Understand our illustration software and how to run it most effectively. \nDate: Tuesday\, March 6\, 2018 \nTime: 10 AM CST \nRegister Here
URL:https://yourbenefitscard.com/event/north-american-demystifying-iul-series-effective-illustration-tips/
CATEGORIES:Product Training,Sales Training,Software Training
ATTACH;FMTTYPE=image/jpeg:https://yourbenefitscard.com/wp-content/uploads/2017/11/NA-Logo.jpg
END:VEVENT
END:VCALENDAR