BEGIN:VCALENDAR
VERSION:2.0
PRODID:-//Your Benefits Card - ECPv5.14.0.4//NONSGML v1.0//EN
CALSCALE:GREGORIAN
METHOD:PUBLISH
X-WR-CALNAME:Your Benefits Card
X-ORIGINAL-URL:https://yourbenefitscard.com
X-WR-CALDESC:Events for Your Benefits Card
BEGIN:VTIMEZONE
TZID:UTC
BEGIN:STANDARD
TZOFFSETFROM:+0000
TZOFFSETTO:+0000
TZNAME:UTC
DTSTART:20180101T000000
END:STANDARD
END:VTIMEZONE
BEGIN:VEVENT
DTSTART;TZID=UTC:20180213T100000
DTEND;TZID=UTC:20180213T110000
DTSTAMP:20260421T101125
CREATED:20180209T195817Z
LAST-MODIFIED:20180209T195817Z
UID:27744-1518516000-1518519600@yourbenefitscard.com
SUMMARY:North American: Demystifying IUL Series - Index Credits
DESCRIPTION:Find out how index credits work on IUL products. \nDate: Tuesday\, February 13\, 2018 \nTime: 10:00 AM CST \nRegister Here
URL:https://yourbenefitscard.com/event/north-american-demystifying-iul-series-index-credits/
CATEGORIES:Product Training,Sales Training
ATTACH;FMTTYPE=image/jpeg:https://yourbenefitscard.com/wp-content/uploads/2017/11/NA-Logo.jpg
END:VEVENT
END:VCALENDAR