BEGIN:VCALENDAR
VERSION:2.0
PRODID:-//Your Benefits Card - ECPv5.14.0.4//NONSGML v1.0//EN
CALSCALE:GREGORIAN
METHOD:PUBLISH
X-WR-CALNAME:Your Benefits Card
X-ORIGINAL-URL:https://yourbenefitscard.com
X-WR-CALDESC:Events for Your Benefits Card
BEGIN:VTIMEZONE
TZID:UTC
BEGIN:STANDARD
TZOFFSETFROM:+0000
TZOFFSETTO:+0000
TZNAME:UTC
DTSTART:20180101T000000
END:STANDARD
END:VTIMEZONE
BEGIN:VEVENT
DTSTART;TZID=UTC:20180315T150000
DTEND;TZID=UTC:20180315T160000
DTSTAMP:20260422T055547
CREATED:20180209T203144Z
LAST-MODIFIED:20180209T203144Z
UID:27759-1521126000-1521129600@yourbenefitscard.com
SUMMARY:North American: Demystifying IUL Series - How to Sell
DESCRIPTION:Gain an understanding for how to position our IUL portfolio with your various clients’ needs. \nDate: Thursday\, March 15\, 2018 \nTime: 3:00 PM CST \nRegister Here
URL:https://yourbenefitscard.com/event/north-american-demystifying-iul-series-sell-2/
CATEGORIES:Product Training,Sales Training
ATTACH;FMTTYPE=image/jpeg:https://yourbenefitscard.com/wp-content/uploads/2017/11/NA-Logo.jpg
END:VEVENT
END:VCALENDAR