BEGIN:VCALENDAR
VERSION:2.0
PRODID:-//Your Benefits Card - ECPv5.14.0.4//NONSGML v1.0//EN
CALSCALE:GREGORIAN
METHOD:PUBLISH
X-WR-CALNAME:Your Benefits Card
X-ORIGINAL-URL:https://yourbenefitscard.com
X-WR-CALDESC:Events for Your Benefits Card
BEGIN:VTIMEZONE
TZID:UTC
BEGIN:STANDARD
TZOFFSETFROM:+0000
TZOFFSETTO:+0000
TZNAME:UTC
DTSTART:20170101T000000
END:STANDARD
END:VTIMEZONE
BEGIN:VEVENT
DTSTART;TZID=UTC:20171128T100000
DTEND;TZID=UTC:20171128T110000
DTSTAMP:20260422T222744
CREATED:20171107T204051Z
LAST-MODIFIED:20171107T204122Z
UID:27671-1511863200-1511866800@yourbenefitscard.com
SUMMARY:North American: Income Protection
DESCRIPTION:A primary goal of life insurance is to provide financial stability at the loss of an income earner or service provider. Learn tips on what to look for and how to position life insurance for this basic but important need. \nWhen: Tuesday\, November 28\, 2017 \nTime: 10:00 AM – 11:00 AM CST \nRegister Here
URL:https://yourbenefitscard.com/event/north-american-income-protection/
CATEGORIES:Sales Training
END:VEVENT
END:VCALENDAR