BEGIN:VCALENDAR
VERSION:2.0
PRODID:-//Your Benefits Card - ECPv5.14.0.4//NONSGML v1.0//EN
CALSCALE:GREGORIAN
METHOD:PUBLISH
X-WR-CALNAME:Your Benefits Card
X-ORIGINAL-URL:https://yourbenefitscard.com
X-WR-CALDESC:Events for Your Benefits Card
BEGIN:VTIMEZONE
TZID:UTC
BEGIN:STANDARD
TZOFFSETFROM:+0000
TZOFFSETTO:+0000
TZNAME:UTC
DTSTART:20170101T000000
END:STANDARD
END:VTIMEZONE
BEGIN:VEVENT
DTSTART;TZID=UTC:20171219T090000
DTEND;TZID=UTC:20171219T110000
DTSTAMP:20260421T224424
CREATED:20171107T200533Z
LAST-MODIFIED:20171107T200533Z
UID:27647-1513674000-1513681200@yourbenefitscard.com
SUMMARY:One America: Asset-Based LTCi Product and Sales Training
DESCRIPTION:These ‘full video’ webinars are a deep-dive into each of the OneAmerica Care Solutions – hosted by their Regional Vice President\, Roger Cantu. Within each hour a different plan is covered every 15 mins. You can join the entire webinar or pick and choose which segment makes the most sense for your business. Times listed below are CST:\n\n\n\n\n\n\n\n\n\n\n\n\nFIRST HOUR: LIFE-BASED LTCi \n\nOverview of all the Life-Based LTCi ( Asset-Care ) \nFunding with a Single Premium of Cash Equivalents (CD’s etc.) \nFunding with Qualified Money (IRA’s\, 401k’s etc.)\n Funding Annually with Guaranteed Premiums. \n\nSECOND HOUR: ANNUITY-BASED LTCi  \n\nOverview of all the Annuity-Based LTCi ( Annuity-Care )\n Fixed Annuity with tax free LTC distributions \nFixed Indexed Annuity with tax free LTC distributions\n Fixed Annuity with tax free LTC distribution and leverage \n\nYou will receive login information via email upon registering. Seating is limited ~ Register Today! \n\n\nRegister Here
URL:https://yourbenefitscard.com/event/one-america-asset-based-ltci-product-sales-training-4/
CATEGORIES:Product Training,Sales Training
ATTACH;FMTTYPE=image/jpeg:https://yourbenefitscard.com/wp-content/uploads/2017/09/OneAmerica-StateLife-e1504883849288.jpg
END:VEVENT
END:VCALENDAR