BEGIN:VCALENDAR
VERSION:2.0
PRODID:-//Your Benefits Card - ECPv5.14.0.4//NONSGML v1.0//EN
CALSCALE:GREGORIAN
METHOD:PUBLISH
X-WR-CALNAME:Your Benefits Card
X-ORIGINAL-URL:https://yourbenefitscard.com
X-WR-CALDESC:Events for Your Benefits Card
BEGIN:VTIMEZONE
TZID:UTC
BEGIN:STANDARD
TZOFFSETFROM:+0000
TZOFFSETTO:+0000
TZNAME:UTC
DTSTART:20180101T000000
END:STANDARD
END:VTIMEZONE
BEGIN:VEVENT
DTSTART;TZID=UTC:20180221T110000
DTEND;TZID=UTC:20180221T120000
DTSTAMP:20260421T152431
CREATED:20180126T185616Z
LAST-MODIFIED:20180126T185616Z
UID:27736-1519210800-1519214400@yourbenefitscard.com
SUMMARY:Phoenix: 2018 Enhancements Webinar
DESCRIPTION:Join Phoenix for a webinar to hear about their latest enhancements and what’s in store for 2018. They will cover: \n\nProduct Sweet Spots\nCreative Sales Ideas\nCompany Highlights & 2018 Focus\n\nDate: Wednesday\, February 21st at 11:00 A.M. CST \nRegister Here
URL:https://yourbenefitscard.com/event/phoenix-2018-enhancements-webinar-4/
CATEGORIES:General Information,Sales Training
ATTACH;FMTTYPE=image/png:https://yourbenefitscard.com/wp-content/uploads/2018/01/Phoenix.png
END:VEVENT
END:VCALENDAR