BEGIN:VCALENDAR
VERSION:2.0
PRODID:-//Your Benefits Card - ECPv5.14.0.4//NONSGML v1.0//EN
CALSCALE:GREGORIAN
METHOD:PUBLISH
X-WR-CALNAME:Your Benefits Card
X-ORIGINAL-URL:https://yourbenefitscard.com
X-WR-CALDESC:Events for Your Benefits Card
BEGIN:VTIMEZONE
TZID:UTC
BEGIN:STANDARD
TZOFFSETFROM:+0000
TZOFFSETTO:+0000
TZNAME:UTC
DTSTART:20170101T000000
END:STANDARD
END:VTIMEZONE
BEGIN:VEVENT
DTSTART;TZID=UTC:20171205T110000
DTEND;TZID=UTC:20171205T130000
DTSTAMP:20260422T113657
CREATED:20171129T182323Z
LAST-MODIFIED:20171129T182323Z
UID:27684-1512471600-1512478800@yourbenefitscard.com
SUMMARY:Webcast: F&G Product Enhancements and Power Producer Program
DESCRIPTION:Join Fidelity and Guaranty Life for an exclusive webinar as they cover product enhancements\, their 2018 Power Producer Program\, and the latest news on their pending ownership change. \nDate: Tuesday\, December 5 \nTime: 11:00 AM CST and 1:00 PM CST \nRegister Here for the 11:00 AM Webinar \nRegister Here for the 1:00 PM Webinar
URL:https://yourbenefitscard.com/event/webcast-fg-product-enhancements-power-producer-program/
CATEGORIES:General Information,Sales Training
ATTACH;FMTTYPE=image/png:https://yourbenefitscard.com/wp-content/uploads/2017/11/Fidelity-Guaranty-Logo.png
END:VEVENT
END:VCALENDAR